BEGIN:VCALENDAR
VERSION:2.0
PRODID:-//LernKulturZeit Akademie - ECPv6.7.0//NONSGML v1.0//EN
CALSCALE:GREGORIAN
METHOD:PUBLISH
X-WR-CALNAME:LernKulturZeit Akademie
X-ORIGINAL-URL:https://www.lernkulturzeit.de
X-WR-CALDESC:Veranstaltungen für LernKulturZeit Akademie
REFRESH-INTERVAL;VALUE=DURATION:PT1H
X-Robots-Tag:noindex
X-PUBLISHED-TTL:PT1H
BEGIN:VTIMEZONE
TZID:Europe/Berlin
BEGIN:DAYLIGHT
TZOFFSETFROM:+0100
TZOFFSETTO:+0200
TZNAME:CEST
DTSTART:20260329T010000
END:DAYLIGHT
BEGIN:STANDARD
TZOFFSETFROM:+0200
TZOFFSETTO:+0100
TZNAME:CET
DTSTART:20261025T010000
END:STANDARD
END:VTIMEZONE
BEGIN:VEVENT
DTSTART;VALUE=DATE:20261029
DTEND;VALUE=DATE:20261102
DTSTAMP:20260422T153229
CREATED:20220716T143716Z
LAST-MODIFIED:20250407T102533Z
UID:10000292-1793260800-1793552400@www.lernkulturzeit.de
SUMMARY:Pioneers of Education Weiterbildung 2026
DESCRIPTION:
URL:https://www.lernkulturzeit.de/veranstaltung/pioneersofeducation-coachingausbildung-sued/2026-10-29/
CATEGORIES:LernKulturZeit
ATTACH;FMTTYPE=image/jpeg:https://www.lernkulturzeit.de/wp-content/uploads/2023/06/lernen_gruppe_freude-scaled.jpeg
END:VEVENT
BEGIN:VEVENT
DTSTART;VALUE=DATE:20261106
DTEND;VALUE=DATE:20261109
DTSTAMP:20260422T153229
CREATED:20220716T143716Z
LAST-MODIFIED:20250407T102533Z
UID:10000293-1793952000-1794157200@www.lernkulturzeit.de
SUMMARY:Pioneers of Education Weiterbildung 2026
DESCRIPTION:
URL:https://www.lernkulturzeit.de/veranstaltung/pioneersofeducation-coachingausbildung-sued/2026-11-06/
CATEGORIES:LernKulturZeit
ATTACH;FMTTYPE=image/jpeg:https://www.lernkulturzeit.de/wp-content/uploads/2023/06/lernen_gruppe_freude-scaled.jpeg
END:VEVENT
BEGIN:VEVENT
DTSTART;VALUE=DATE:20261106
DTEND;VALUE=DATE:20261109
DTSTAMP:20260422T153229
CREATED:20230616T111229Z
LAST-MODIFIED:20250407T102255Z
UID:10000300-1793952000-1794157200@www.lernkulturzeit.de
SUMMARY:Pioneers of Education Weiterbildung 2026
DESCRIPTION:
URL:https://www.lernkulturzeit.de/veranstaltung/pioneersofeducation-weiterbildung-ost-copy/2026-11-06/
CATEGORIES:Webinare
ATTACH;FMTTYPE=image/jpeg:https://www.lernkulturzeit.de/wp-content/uploads/2023/06/lernen_gruppe_freude-scaled.jpeg
END:VEVENT
BEGIN:VEVENT
DTSTART;VALUE=DATE:20261119
DTEND;VALUE=DATE:20261123
DTSTAMP:20260422T153229
CREATED:20231207T093339Z
LAST-MODIFIED:20260130T094047Z
UID:10000325-1795107600-1795356000@www.lernkulturzeit.de
SUMMARY:LernKulturZeit Practitioner
DESCRIPTION:
URL:https://www.lernkulturzeit.de/veranstaltung/lernkulturzeit-practitioner/2026-11-19/
CATEGORIES:Netzwerken
ATTACH;FMTTYPE=image/jpeg:https://www.lernkulturzeit.de/wp-content/uploads/2023/02/Practitioner_600x402px.jpeg
END:VEVENT
BEGIN:VEVENT
DTSTART;VALUE=DATE:20261127
DTEND;VALUE=DATE:20261130
DTSTAMP:20260422T153229
CREATED:20220716T143716Z
LAST-MODIFIED:20250407T102533Z
UID:10000294-1795766400-1795971600@www.lernkulturzeit.de
SUMMARY:Pioneers of Education Weiterbildung 2026
DESCRIPTION:
URL:https://www.lernkulturzeit.de/veranstaltung/pioneersofeducation-coachingausbildung-sued/2026-11-27/
CATEGORIES:LernKulturZeit
ATTACH;FMTTYPE=image/jpeg:https://www.lernkulturzeit.de/wp-content/uploads/2023/06/lernen_gruppe_freude-scaled.jpeg
END:VEVENT
BEGIN:VEVENT
DTSTART;VALUE=DATE:20261127
DTEND;VALUE=DATE:20261130
DTSTAMP:20260422T153229
CREATED:20230616T111229Z
LAST-MODIFIED:20250407T102255Z
UID:10000301-1795766400-1795971600@www.lernkulturzeit.de
SUMMARY:Pioneers of Education Weiterbildung 2026
DESCRIPTION:
URL:https://www.lernkulturzeit.de/veranstaltung/pioneersofeducation-weiterbildung-ost-copy/2026-11-27/
CATEGORIES:Webinare
ATTACH;FMTTYPE=image/jpeg:https://www.lernkulturzeit.de/wp-content/uploads/2023/06/lernen_gruppe_freude-scaled.jpeg
END:VEVENT
END:VCALENDAR