BEGIN:VCALENDAR
VERSION:2.0
PRODID:-//LernKulturZeit Akademie - ECPv6.7.0//NONSGML v1.0//EN
CALSCALE:GREGORIAN
METHOD:PUBLISH
X-WR-CALNAME:LernKulturZeit Akademie
X-ORIGINAL-URL:https://www.lernkulturzeit.de
X-WR-CALDESC:Veranstaltungen für LernKulturZeit Akademie
REFRESH-INTERVAL;VALUE=DURATION:PT1H
X-Robots-Tag:noindex
X-PUBLISHED-TTL:PT1H
BEGIN:VTIMEZONE
TZID:Europe/Berlin
BEGIN:DAYLIGHT
TZOFFSETFROM:+0100
TZOFFSETTO:+0200
TZNAME:CEST
DTSTART:20260329T010000
END:DAYLIGHT
BEGIN:STANDARD
TZOFFSETFROM:+0200
TZOFFSETTO:+0100
TZNAME:CET
DTSTART:20261025T010000
END:STANDARD
END:VTIMEZONE
BEGIN:VEVENT
DTSTART;VALUE=DATE:20261015
DTEND;VALUE=DATE:20261019
DTSTAMP:20260422T140541
CREATED:20230616T111229Z
LAST-MODIFIED:20250407T102255Z
UID:10000299-1792051200-1792342800@www.lernkulturzeit.de
SUMMARY:Pioneers of Education Weiterbildung 2026
DESCRIPTION:
URL:https://www.lernkulturzeit.de/veranstaltung/pioneersofeducation-weiterbildung-ost-copy/2026-10-15/
CATEGORIES:Webinare
ATTACH;FMTTYPE=image/jpeg:https://www.lernkulturzeit.de/wp-content/uploads/2023/06/lernen_gruppe_freude-scaled.jpeg
END:VEVENT
BEGIN:VEVENT
DTSTART;VALUE=DATE:20261022
DTEND;VALUE=DATE:20261026
DTSTAMP:20260422T140541
CREATED:20260326T194240Z
LAST-MODIFIED:20260417T124749Z
UID:10000327-1792627200-1792972799@www.lernkulturzeit.de
SUMMARY:In Verbindung bleiben in Zeiten der Polarisierung
DESCRIPTION:
URL:https://www.lernkulturzeit.de/veranstaltung/verbindung-polarisierung/
CATEGORIES:Seminare
ATTACH;FMTTYPE=image/jpeg:https://www.lernkulturzeit.de/wp-content/uploads/2026/03/Polarisierung_Seminar_LernKulturZeit_600x400px.jpg
END:VEVENT
BEGIN:VEVENT
DTSTART;VALUE=DATE:20261029
DTEND;VALUE=DATE:20261102
DTSTAMP:20260422T140541
CREATED:20220716T143716Z
LAST-MODIFIED:20250407T102533Z
UID:10000292-1793260800-1793552400@www.lernkulturzeit.de
SUMMARY:Pioneers of Education Weiterbildung 2026
DESCRIPTION:
URL:https://www.lernkulturzeit.de/veranstaltung/pioneersofeducation-coachingausbildung-sued/2026-10-29/
CATEGORIES:LernKulturZeit
ATTACH;FMTTYPE=image/jpeg:https://www.lernkulturzeit.de/wp-content/uploads/2023/06/lernen_gruppe_freude-scaled.jpeg
END:VEVENT
END:VCALENDAR