BEGIN:VCALENDAR
VERSION:2.0
PRODID:-//LernKulturZeit Akademie - ECPv6.7.0//NONSGML v1.0//EN
CALSCALE:GREGORIAN
METHOD:PUBLISH
X-WR-CALNAME:LernKulturZeit Akademie
X-ORIGINAL-URL:https://www.lernkulturzeit.de
X-WR-CALDESC:Veranstaltungen für LernKulturZeit Akademie
REFRESH-INTERVAL;VALUE=DURATION:PT1H
X-Robots-Tag:noindex
X-PUBLISHED-TTL:PT1H
BEGIN:VTIMEZONE
TZID:Europe/Berlin
BEGIN:DAYLIGHT
TZOFFSETFROM:+0100
TZOFFSETTO:+0200
TZNAME:CEST
DTSTART:20260329T010000
END:DAYLIGHT
BEGIN:STANDARD
TZOFFSETFROM:+0200
TZOFFSETTO:+0100
TZNAME:CET
DTSTART:20261025T010000
END:STANDARD
END:VTIMEZONE
BEGIN:VEVENT
DTSTART;VALUE=DATE:20260802
DTEND;VALUE=DATE:20260810
DTSTAMP:20260420T120633
CREATED:20220716T143716Z
LAST-MODIFIED:20250407T102533Z
UID:10000290-1785657600-1786294800@www.lernkulturzeit.de
SUMMARY:Pioneers of Education Weiterbildung 2026
DESCRIPTION:
URL:https://www.lernkulturzeit.de/veranstaltung/pioneersofeducation-coachingausbildung-sued/2026-08-02/
CATEGORIES:LernKulturZeit
ATTACH;FMTTYPE=image/jpeg:https://www.lernkulturzeit.de/wp-content/uploads/2023/06/lernen_gruppe_freude-scaled.jpeg
END:VEVENT
BEGIN:VEVENT
DTSTART;VALUE=DATE:20260802
DTEND;VALUE=DATE:20260810
DTSTAMP:20260420T120633
CREATED:20230616T111229Z
LAST-MODIFIED:20250407T102255Z
UID:10000297-1785657600-1786294800@www.lernkulturzeit.de
SUMMARY:Pioneers of Education Weiterbildung 2026
DESCRIPTION:
URL:https://www.lernkulturzeit.de/veranstaltung/pioneersofeducation-weiterbildung-ost-copy/2026-08-02/
CATEGORIES:Webinare
ATTACH;FMTTYPE=image/jpeg:https://www.lernkulturzeit.de/wp-content/uploads/2023/06/lernen_gruppe_freude-scaled.jpeg
END:VEVENT
BEGIN:VEVENT
DTSTART;VALUE=DATE:20260805
DTEND;VALUE=DATE:20260809
DTSTAMP:20260420T120633
CREATED:20231106T113836Z
LAST-MODIFIED:20260130T094341Z
UID:10000214-1785888000-1786233599@www.lernkulturzeit.de
SUMMARY:Stillezeit & Open Space
DESCRIPTION:
URL:https://www.lernkulturzeit.de/veranstaltung/stilletage/
CATEGORIES:Netzwerken
ATTACH;FMTTYPE=image/jpeg:https://www.lernkulturzeit.de/wp-content/uploads/2022/11/stilletage-community_600x402.jpg
END:VEVENT
END:VCALENDAR